BEGIN:VCALENDAR
VERSION:2.0
PRODID:-//Tukios.com/
BEGIN:VEVENT
UID:1592ff9c-c8bc-4776-9d57-e08554a296a5@www.gordonfuneralservice.com
DTSTAMP:20260425T022606Z
DTSTART:20260427T140000Z
DTEND:20260427T144500Z
SUMMARY:Visitation
DESCRIPTION:
URL:https://www.gordonfuneralservice.com/obituaries/melda-hill
LOCATION: 1904 Lancaster Ave  Monroe NC 28112
GEO:34.9685927;-80.5677146
END:VEVENT
END:VCALENDAR