BEGIN:VCALENDAR
VERSION:2.0
PRODID:-//Tukios.com/
BEGIN:VEVENT
UID:99004f08-5b36-4fe4-ac42-c2b3132fca85@www.gordonfuneralservice.com
DTSTAMP:20260425T022611Z
DTSTART:20260427T150000Z
DTEND:20260427T160000Z
SUMMARY:Funeral Service
DESCRIPTION:
URL:https://www.gordonfuneralservice.com/obituaries/melda-hill
LOCATION:Gordon Funeral Chapel 1904 Lancaster Ave  Monroe NC 28112
GEO:34.9685927;-80.5677146
END:VEVENT
END:VCALENDAR